BEGIN:VCALENDAR
VERSION:2.0
PRODID:-//Spanish Peaks Country - ECPv6.15.20//NONSGML v1.0//EN
CALSCALE:GREGORIAN
METHOD:PUBLISH
X-WR-CALNAME:Spanish Peaks Country
X-ORIGINAL-URL:https://spanishpeakscountry.com
X-WR-CALDESC:Events for Spanish Peaks Country
REFRESH-INTERVAL;VALUE=DURATION:PT1H
X-Robots-Tag:noindex
X-PUBLISHED-TTL:PT1H
BEGIN:VTIMEZONE
TZID:America/Denver
BEGIN:DAYLIGHT
TZOFFSETFROM:-0700
TZOFFSETTO:-0600
TZNAME:MDT
DTSTART:20240310T090000
END:DAYLIGHT
BEGIN:STANDARD
TZOFFSETFROM:-0600
TZOFFSETTO:-0700
TZNAME:MST
DTSTART:20241103T080000
END:STANDARD
BEGIN:DAYLIGHT
TZOFFSETFROM:-0700
TZOFFSETTO:-0600
TZNAME:MDT
DTSTART:20250309T090000
END:DAYLIGHT
BEGIN:STANDARD
TZOFFSETFROM:-0600
TZOFFSETTO:-0700
TZNAME:MST
DTSTART:20251102T080000
END:STANDARD
BEGIN:DAYLIGHT
TZOFFSETFROM:-0700
TZOFFSETTO:-0600
TZNAME:MDT
DTSTART:20260308T090000
END:DAYLIGHT
BEGIN:STANDARD
TZOFFSETFROM:-0600
TZOFFSETTO:-0700
TZNAME:MST
DTSTART:20261101T080000
END:STANDARD
END:VTIMEZONE
BEGIN:VEVENT
DTSTART;TZID=America/Denver:20250611T100000
DTEND;TZID=America/Denver:20250611T120000
DTSTAMP:20260422T091815
CREATED:20250605T153529Z
LAST-MODIFIED:20250605T153529Z
UID:10063332-1749636000-1749643200@spanishpeakscountry.com
SUMMARY:Pioneer Day for Huerfano County Youth Francisco Fort and La Veta Public Library
DESCRIPTION:Lots of Fun for Kids in Huerfano County! Fun\, games\, and crafts to keep! Rain or Shine. For more information\,n call the La Veta Public Library (719) 742-3572
URL:https://spanishpeakscountry.com/spc-event/pioneer-day-for-huerfano-county-youth-francisco-fort-and-la-veta-public-library/
LOCATION:Francisco Fort Museum\, 306 S Main St\, La Veta\, CO\, 81055\, United States
ATTACH;FMTTYPE=image/jpeg:https://spanishpeakscountry.com/wp-content/uploads/2025/05/Pioneer-Day-2024.jpg
GEO:37.5076085;-105.0096964
X-APPLE-STRUCTURED-LOCATION;VALUE=URI;X-ADDRESS=Francisco Fort Museum 306 S Main St La Veta CO 81055 United States;X-APPLE-RADIUS=500;X-TITLE=306 S Main St:geo:-105.0096964,37.5076085
END:VEVENT
END:VCALENDAR