BEGIN:VCALENDAR
VERSION:2.0
PRODID:-//Spanish Peaks Country - ECPv6.15.20//NONSGML v1.0//EN
CALSCALE:GREGORIAN
METHOD:PUBLISH
X-WR-CALNAME:Spanish Peaks Country
X-ORIGINAL-URL:https://spanishpeakscountry.com
X-WR-CALDESC:Events for Spanish Peaks Country
REFRESH-INTERVAL;VALUE=DURATION:PT1H
X-Robots-Tag:noindex
X-PUBLISHED-TTL:PT1H
BEGIN:VTIMEZONE
TZID:America/Denver
BEGIN:DAYLIGHT
TZOFFSETFROM:-0700
TZOFFSETTO:-0600
TZNAME:MDT
DTSTART:20240310T090000
END:DAYLIGHT
BEGIN:STANDARD
TZOFFSETFROM:-0600
TZOFFSETTO:-0700
TZNAME:MST
DTSTART:20241103T080000
END:STANDARD
BEGIN:DAYLIGHT
TZOFFSETFROM:-0700
TZOFFSETTO:-0600
TZNAME:MDT
DTSTART:20250309T090000
END:DAYLIGHT
BEGIN:STANDARD
TZOFFSETFROM:-0600
TZOFFSETTO:-0700
TZNAME:MST
DTSTART:20251102T080000
END:STANDARD
BEGIN:DAYLIGHT
TZOFFSETFROM:-0700
TZOFFSETTO:-0600
TZNAME:MDT
DTSTART:20260308T090000
END:DAYLIGHT
BEGIN:STANDARD
TZOFFSETFROM:-0600
TZOFFSETTO:-0700
TZNAME:MST
DTSTART:20261101T080000
END:STANDARD
END:VTIMEZONE
BEGIN:VEVENT
DTSTART;TZID=America/Denver:20250602T190000
DTEND;TZID=America/Denver:20250602T210000
DTSTAMP:20260422T092105
CREATED:20250605T193834Z
LAST-MODIFIED:20250605T193834Z
UID:10063591-1748890800-1748898000@spanishpeakscountry.com
SUMMARY:Eric Ramsey
DESCRIPTION:Soaring vocals and organic arrangements\, Eric’s original compositions reflect his musical influences\, but come from a place all their own. His arrangements and delivery encompass a spectrum of styles\, from delicate fingerpicking to raucous bluesy bottleneck slide. 2022 International Blues Challenge Winner. Memphis Cigar Box Guitar award\, best solo/duo guitarist. Arizona Blues Hall Of Famer. Three time champion of the Pheonix Blues Society’s Blues Showdown.
URL:https://spanishpeakscountry.com/spc-event/eric-ramsey/
LOCATION:La Veta Mercantile\, 300 S. Main Street\, La Veta\, 81055
CATEGORIES:Music
ATTACH;FMTTYPE=image/jpeg:https://spanishpeakscountry.com/wp-content/uploads/2025/06/IMG_0222.jpeg
GEO:37.5078709;-105.0093997
X-APPLE-STRUCTURED-LOCATION;VALUE=URI;X-ADDRESS=La Veta Mercantile 300 S. Main Street La Veta 81055;X-APPLE-RADIUS=500;X-TITLE=300 S. Main Street:geo:-105.0093997,37.5078709
END:VEVENT
BEGIN:VEVENT
DTSTART;TZID=America/Denver:20250524T190000
DTEND;TZID=America/Denver:20250524T210000
DTSTAMP:20260422T092105
CREATED:20250605T193820Z
LAST-MODIFIED:20250605T193820Z
UID:10063423-1748113200-1748120400@spanishpeakscountry.com
SUMMARY:Jack Hadley Trio
DESCRIPTION:Advance tickets… $18  ;  Day of show.. $20 \nJack Hadley was born in the Philippines into a military family. When they returned to America\, they were stationed in San Francisco where he spent his childhood in the Haight-Ashbury district. Jack’s mother bought him an acoustic guitar at an early age to keep him busy. The family eventually moved to Denver\, Colorado\, where he learned to play music by ear\, playing everything from Hendrix to Dylan\, unaware that he was learning the foundation of American music – the Blues. \nJack played in a number of bands\, sharpening his guitar skills and discovering his vocal talent along the way. He began performing as a solo artist and played countless shows as a hired gun. In 2005\, Jack decided to focus on writing and performing his own blues-based material with his trio\, The Jack Hadley Band. That same year he was playing at a local club when he was approached by blues veteran Otis Taylor\, who happened to be in the audience. For the next 18 months\, Jack was Taylor’s lead guitarist\, playing festivals and shows all over the USA\, Canada and the United Kingdom. \n“…left-of-center/eclectic blues…a monster blues guitarist/singer with an amazing sum of influences: North Mississippi drone blues-meets Jimi/BB/Albert/Curtis Mayfield/Marley filtered through- Haight Ashbury…”  – Bob Lohr\, Producer\, San Telmo Media \nWinner of the 2017 Colorado Blues Challenge\, Solo/Duo category. Represented the Colorado Blues Society at the 2018 International Blues Competition in Memphis\, Tennessee. \nJack has the national and international touring experience\, including Blues from the Top\, Winter Park CO | St. Louis Art Museum\, St. Louis MO | Live on the BBC\, London\, England | SummerFest\, Milwaukee WI | Stern Grove Festival\, San Francisco\, CA | Rauma Blues Festival\, Rauma\, Finland. \nDISCOGRAPHY Deeper – 2008 The St. Louis Sessions – 2014 Daybreak In Alabama – The Langston Hughes Project – 2020 The St. Louis Sessions Volume II – 2024
URL:https://spanishpeakscountry.com/spc-event/jack-hadley-trio/
LOCATION:La Veta Mercantile
END:VEVENT
END:VCALENDAR