BEGIN:VCALENDAR
VERSION:2.0
PRODID:-//Spanish Peaks Country - ECPv6.15.20//NONSGML v1.0//EN
CALSCALE:GREGORIAN
METHOD:PUBLISH
X-WR-CALNAME:Spanish Peaks Country
X-ORIGINAL-URL:https://spanishpeakscountry.com
X-WR-CALDESC:Events for Spanish Peaks Country
REFRESH-INTERVAL;VALUE=DURATION:PT1H
X-Robots-Tag:noindex
X-PUBLISHED-TTL:PT1H
BEGIN:VTIMEZONE
TZID:America/Denver
BEGIN:DAYLIGHT
TZOFFSETFROM:-0700
TZOFFSETTO:-0600
TZNAME:MDT
DTSTART:20240310T090000
END:DAYLIGHT
BEGIN:STANDARD
TZOFFSETFROM:-0600
TZOFFSETTO:-0700
TZNAME:MST
DTSTART:20241103T080000
END:STANDARD
BEGIN:DAYLIGHT
TZOFFSETFROM:-0700
TZOFFSETTO:-0600
TZNAME:MDT
DTSTART:20250309T090000
END:DAYLIGHT
BEGIN:STANDARD
TZOFFSETFROM:-0600
TZOFFSETTO:-0700
TZNAME:MST
DTSTART:20251102T080000
END:STANDARD
BEGIN:DAYLIGHT
TZOFFSETFROM:-0700
TZOFFSETTO:-0600
TZNAME:MDT
DTSTART:20260308T090000
END:DAYLIGHT
BEGIN:STANDARD
TZOFFSETFROM:-0600
TZOFFSETTO:-0700
TZNAME:MST
DTSTART:20261101T080000
END:STANDARD
END:VTIMEZONE
BEGIN:VEVENT
DTSTART;TZID=America/Denver:20251018T100000
DTEND;TZID=America/Denver:20251115T160000
DTSTAMP:20260419T201147
CREATED:20251021T202127Z
LAST-MODIFIED:20251021T202127Z
UID:10063663-1760781600-1763222400@spanishpeakscountry.com
SUMMARY:Día de los Muertos Comunitaria Ofrenda
DESCRIPTION:📅 On View: October 18 – November 15\, 2025\n📍 Location: Made in Walsenburg Gift Shop | Museum of Friends | 600 Main Street\, Walsenburg\, CO \nEach year\, the Museum of Friends hosts a Día de los Muertos Comunitaria Ofrenda\, a community altar honoring the lives of loved ones who have passed. Adorned with marigolds\, candles\, photographs\, and symbolic artwork\, this annual display offers a shared space for remembrance\, celebration\, and cultural connection. \nCommunity members are invited to contribute photos\, small mementos\, or written messages in remembrance\, healing\, or hope—acts that honor those we’ve lost and foster unity within our community. Items may be retrieved on Saturday\, November 15\, at the close of this year’s ofrenda. \nThrough this shared tradition\, we celebrate life\, memory\, and the enduring presence of those who came before us. \n👉 RSVP: www.museumoffriends.org
URL:https://spanishpeakscountry.com/spc-event/dia-de-los-muertos-comunitaria-ofrenda/
LOCATION:Museum of Friends\, 109 East 6th Street\, Walsenburg\, CO\, 81089\, United States
CATEGORIES:Events
ATTACH;FMTTYPE=image/jpeg:https://spanishpeakscountry.com/wp-content/uploads/2025/10/dia-de-los-muertos.jpg
GEO:37.6236172;-104.780528
X-APPLE-STRUCTURED-LOCATION;VALUE=URI;X-ADDRESS=Museum of Friends 109 East 6th Street Walsenburg CO 81089 United States;X-APPLE-RADIUS=500;X-TITLE=109 East 6th Street:geo:-104.780528,37.6236172
END:VEVENT
BEGIN:VEVENT
DTSTART;TZID=America/Denver:20251101T160000
DTEND;TZID=America/Denver:20251101T180000
DTSTAMP:20260419T201147
CREATED:20251021T202159Z
LAST-MODIFIED:20251021T202159Z
UID:10063664-1762012800-1762020000@spanishpeakscountry.com
SUMMARY:La Moda de los Muertos (Fashion of the Dead) — Fundraiser for the Museum of Friends Building Fund
DESCRIPTION:Join the MoF and Friends for La Moda de los Muertos\, a vibrant Día de los Muertos celebration of life\, memory\, and creativity. This dynamic fashion runway event features alt-inspired\, folklórico\, and contemporary fashions\, accompanied by live entertainment and festive performances. Enjoy the sounds of Huerfano Winds\, an ensemble of John Mall High School alumni\, and close the evening with a lively community fiesta. \nThis special event also serves as a fundraiser supporting the Museum of Friends Building Fund and the restoration of the museum’s historic windows. \nGuests are encouraged to visit the Comunitaria Ofrenda (Community Altar) in the Made in Walsenburg Gift Shop window to leave messages or small tokens of remembrance\, healing\, and hope — acts that honor loved ones and foster unity within our community. Offerings may be retrieved on Saturday\, November 15\, at the close of this year’s ofrenda. \nAdmission: Free (donations welcome to support exhibits and programs)\nMake a donation or reserve a ticket: https://bit.ly/Fashion_Fundraiser
URL:https://spanishpeakscountry.com/spc-event/la-moda-de-los-muertos-fashion-of-the-dead-fundraiser-for-the-museum-of-friends-building-fund/
LOCATION:Museum of Friends\, 109 East 6th Street\, Walsenburg\, CO\, 81089\, United States
CATEGORIES:Events,Music
ATTACH;FMTTYPE=image/jpeg:https://spanishpeakscountry.com/wp-content/uploads/2025/10/La-Moda-Fashion-4.jpg
GEO:37.6236172;-104.780528
X-APPLE-STRUCTURED-LOCATION;VALUE=URI;X-ADDRESS=Museum of Friends 109 East 6th Street Walsenburg CO 81089 United States;X-APPLE-RADIUS=500;X-TITLE=109 East 6th Street:geo:-104.780528,37.6236172
END:VEVENT
END:VCALENDAR