BEGIN:VCALENDAR
VERSION:2.0
PRODID:-//Spanish Peaks Country - ECPv6.15.20//NONSGML v1.0//EN
CALSCALE:GREGORIAN
METHOD:PUBLISH
X-ORIGINAL-URL:https://spanishpeakscountry.com
X-WR-CALDESC:Events for Spanish Peaks Country
REFRESH-INTERVAL;VALUE=DURATION:PT1H
X-Robots-Tag:noindex
X-PUBLISHED-TTL:PT1H
BEGIN:VTIMEZONE
TZID:America/Denver
BEGIN:DAYLIGHT
TZOFFSETFROM:-0700
TZOFFSETTO:-0600
TZNAME:MDT
DTSTART:20240310T090000
END:DAYLIGHT
BEGIN:STANDARD
TZOFFSETFROM:-0600
TZOFFSETTO:-0700
TZNAME:MST
DTSTART:20241103T080000
END:STANDARD
BEGIN:DAYLIGHT
TZOFFSETFROM:-0700
TZOFFSETTO:-0600
TZNAME:MDT
DTSTART:20250309T090000
END:DAYLIGHT
BEGIN:STANDARD
TZOFFSETFROM:-0600
TZOFFSETTO:-0700
TZNAME:MST
DTSTART:20251102T080000
END:STANDARD
BEGIN:DAYLIGHT
TZOFFSETFROM:-0700
TZOFFSETTO:-0600
TZNAME:MDT
DTSTART:20260308T090000
END:DAYLIGHT
BEGIN:STANDARD
TZOFFSETFROM:-0600
TZOFFSETTO:-0700
TZNAME:MST
DTSTART:20261101T080000
END:STANDARD
END:VTIMEZONE
BEGIN:VEVENT
DTSTART;TZID=America/Denver:20250912T070000
DTEND;TZID=America/Denver:20250912T140000
DTSTAMP:20260422T050405
CREATED:20250918T211750Z
LAST-MODIFIED:20250918T211750Z
UID:10063640-1757660400-1757685600@spanishpeakscountry.com
SUMMARY:Spanish Peaks HealthCare Foundation Golf Tournament
DESCRIPTION:There’s nothing like a September day at Grandote Peaks Golf Course! Join us at the Spanish Peaks HealthCare Foundation Annual Golf Tournament—a day of golf\, fun\, food\, and fundraising to support local students pursuing careers in healthcare. This year\, we proudly awarded a record $37\,000 in scholarships to Huerfano County students! \nEvent Details:\nDate: Friday\, September 12\, 2025\nLocation: Grandote Peaks Golf Course\nRange Opens: 6:00 a.m.\nCheck-In: 7:00 a.m.\nShotgun Start: 8:00 a.m.\nFormat: 4-Person Scramble | 18 Holes\n💵 $500 per team ($125 per person) includes:\nGrab-n-Go breakfast\nRange balls\, green fee\, and golf cart\nA delicious BBQ lunch with sides prepared by Chef Arleigh Bailey\nBeverages\, themed holes\, door prizes\, and the last hurrah of summer on the course!\nRegister your team or become a sponsor. Questions? Contact Patti Davis at 719-859-0323 or email mrsdr50@gmail.com.
URL:https://spanishpeakscountry.com/spc-event/spanish-peaks-healthcare-foundation-golf-tournament/
LOCATION:Grandote Peaks Golf Course\, 5540 State Hwy 12\, La Veta\, 81055
CATEGORIES:Events
ATTACH;FMTTYPE=image/png:https://spanishpeakscountry.com/wp-content/uploads/2025/08/Golf-Tournament-25-Flyer-3-scaled.png
GEO:37.4974309;-105.0124261
X-APPLE-STRUCTURED-LOCATION;VALUE=URI;X-ADDRESS=Grandote Peaks Golf Course 5540 State Hwy 12 La Veta 81055;X-APPLE-RADIUS=500;X-TITLE=5540 State Hwy 12:geo:-105.0124261,37.4974309
END:VEVENT
END:VCALENDAR