BEGIN:VCALENDAR
VERSION:2.0
PRODID:-//Spanish Peaks Country - ECPv6.15.20//NONSGML v1.0//EN
CALSCALE:GREGORIAN
METHOD:PUBLISH
X-ORIGINAL-URL:https://spanishpeakscountry.com
X-WR-CALDESC:Events for Spanish Peaks Country
REFRESH-INTERVAL;VALUE=DURATION:PT1H
X-Robots-Tag:noindex
X-PUBLISHED-TTL:PT1H
BEGIN:VTIMEZONE
TZID:America/Denver
BEGIN:DAYLIGHT
TZOFFSETFROM:-0700
TZOFFSETTO:-0600
TZNAME:MDT
DTSTART:20230312T090000
END:DAYLIGHT
BEGIN:STANDARD
TZOFFSETFROM:-0600
TZOFFSETTO:-0700
TZNAME:MST
DTSTART:20231105T080000
END:STANDARD
BEGIN:DAYLIGHT
TZOFFSETFROM:-0700
TZOFFSETTO:-0600
TZNAME:MDT
DTSTART:20240310T090000
END:DAYLIGHT
BEGIN:STANDARD
TZOFFSETFROM:-0600
TZOFFSETTO:-0700
TZNAME:MST
DTSTART:20241103T080000
END:STANDARD
BEGIN:DAYLIGHT
TZOFFSETFROM:-0700
TZOFFSETTO:-0600
TZNAME:MDT
DTSTART:20250309T090000
END:DAYLIGHT
BEGIN:STANDARD
TZOFFSETFROM:-0600
TZOFFSETTO:-0700
TZNAME:MST
DTSTART:20251102T080000
END:STANDARD
BEGIN:DAYLIGHT
TZOFFSETFROM:-0700
TZOFFSETTO:-0600
TZNAME:MDT
DTSTART:20260308T090000
END:DAYLIGHT
BEGIN:STANDARD
TZOFFSETFROM:-0600
TZOFFSETTO:-0700
TZNAME:MST
DTSTART:20261101T080000
END:STANDARD
END:VTIMEZONE
BEGIN:VEVENT
DTSTART;TZID=America/Denver:20250704T213000
DTEND;TZID=America/Denver:20250704T223000
DTSTAMP:20260422T161507
CREATED:20250626T201427Z
LAST-MODIFIED:20250626T201512Z
UID:10063601-1751664600-1751668200@spanishpeakscountry.com
SUMMARY:4th of July Fireworks at Lathrop State Park
DESCRIPTION:🎆 Celebrate the 4th of July under the stars at Lathrop State Park! 🇺🇸 \nJoin us for Huerfano County’s annual Independence Day Fireworks Show on Friday\, July 4th at 9:30 PM—set against the stunning backdrop of Martin Lake and the Spanish Peaks. \n📍 Lathrop State Park\, Walsenburg\, CO🎇 Fireworks begin at dusk (approx. 9:30 PM)🌭 Pack a picnic\, bring your blankets & lawn chairs🏕️ Make it a weekend! Campsites available via Colorado Parks & Wildlife🛏️ Stay local and enjoy the charm of historic Walsenburg—great food\, art\, and cozy lodging await. \nThis is Colorado’s first state park\, and there’s no better place to celebrate freedom and community. See you by the lake! 💥
URL:https://spanishpeakscountry.com/spc-event/34927/
LOCATION:Lathrop State Park\, 70 County Road 502\, Walsenburg\, CO\, 81089
ATTACH;FMTTYPE=image/png:https://spanishpeakscountry.com/wp-content/uploads/2025/06/Screenshot-2025-06-26-at-2.13.58 PM.png
GEO:37.6027155;-104.8331039
X-APPLE-STRUCTURED-LOCATION;VALUE=URI;X-ADDRESS=Lathrop State Park 70 County Road 502 Walsenburg CO 81089;X-APPLE-RADIUS=500;X-TITLE=70 County Road 502:geo:-104.8331039,37.6027155
END:VEVENT
BEGIN:VEVENT
DTSTART;TZID=America/Denver:20240525T203000
DTEND;TZID=America/Denver:20240525T213000
DTSTAMP:20260422T161507
CREATED:20240524T173011Z
LAST-MODIFIED:20240524T173011Z
UID:10062429-1716669000-1716672600@spanishpeakscountry.com
SUMMARY:Igneous Petrology of the Spanish Peaks
DESCRIPTION:Learn about the geologic history of the Spanish Peaks area. Learn how the crust and upper mantle interaction produced many of the igneous bodies of the region. This will serve as an introduction of the multitude of geologic features visible in Lathrop State park and around the Scenic Highway of Legends. Located at the Pinon Campground Amphitheater at Lathrop State Park.
URL:https://spanishpeakscountry.com/spc-event/igneous-petrology-of-the-spanish-peaks/
LOCATION:Lathrop State Park\, 70 County Road 502\, Walsenburg\, CO\, 81089
CATEGORIES:Exhibitions
GEO:37.6027155;-104.8331039
X-APPLE-STRUCTURED-LOCATION;VALUE=URI;X-ADDRESS=Lathrop State Park 70 County Road 502 Walsenburg CO 81089;X-APPLE-RADIUS=500;X-TITLE=70 County Road 502:geo:-104.8331039,37.6027155
END:VEVENT
BEGIN:VEVENT
DTSTART;TZID=America/Denver:20240525T080000
DTEND;TZID=America/Denver:20240525T090000
DTSTAMP:20260422T161507
CREATED:20240524T173801Z
LAST-MODIFIED:20240524T173801Z
UID:10062431-1716624000-1716627600@spanishpeakscountry.com
SUMMARY:Birding with Shannon
DESCRIPTION:Join our local raptor monitor for a guided bird walk. Meet at the south side of Horseshoe parking lot (kayak launch). Remember to bring your binoculars.
URL:https://spanishpeakscountry.com/spc-event/birding-with-shannon/
LOCATION:Lathrop State Park\, 70 County Road 502\, Walsenburg\, CO\, 81089
CATEGORIES:Exhibitions
GEO:37.6027155;-104.8331039
X-APPLE-STRUCTURED-LOCATION;VALUE=URI;X-ADDRESS=Lathrop State Park 70 County Road 502 Walsenburg CO 81089;X-APPLE-RADIUS=500;X-TITLE=70 County Road 502:geo:-104.8331039,37.6027155
END:VEVENT
END:VCALENDAR