BEGIN:VCALENDAR
VERSION:2.0
PRODID:-//Spanish Peaks Country - ECPv6.15.20//NONSGML v1.0//EN
CALSCALE:GREGORIAN
METHOD:PUBLISH
X-WR-CALNAME:Spanish Peaks Country
X-ORIGINAL-URL:https://spanishpeakscountry.com
X-WR-CALDESC:Events for Spanish Peaks Country
REFRESH-INTERVAL;VALUE=DURATION:PT1H
X-Robots-Tag:noindex
X-PUBLISHED-TTL:PT1H
BEGIN:VTIMEZONE
TZID:America/Denver
BEGIN:DAYLIGHT
TZOFFSETFROM:-0700
TZOFFSETTO:-0600
TZNAME:MDT
DTSTART:20220313T090000
END:DAYLIGHT
BEGIN:STANDARD
TZOFFSETFROM:-0600
TZOFFSETTO:-0700
TZNAME:MST
DTSTART:20221106T080000
END:STANDARD
BEGIN:DAYLIGHT
TZOFFSETFROM:-0700
TZOFFSETTO:-0600
TZNAME:MDT
DTSTART:20230312T090000
END:DAYLIGHT
BEGIN:STANDARD
TZOFFSETFROM:-0600
TZOFFSETTO:-0700
TZNAME:MST
DTSTART:20231105T080000
END:STANDARD
BEGIN:DAYLIGHT
TZOFFSETFROM:-0700
TZOFFSETTO:-0600
TZNAME:MDT
DTSTART:20240310T090000
END:DAYLIGHT
BEGIN:STANDARD
TZOFFSETFROM:-0600
TZOFFSETTO:-0700
TZNAME:MST
DTSTART:20241103T080000
END:STANDARD
END:VTIMEZONE
BEGIN:VEVENT
DTSTART;TZID=America/Denver:20231217T180000
DTEND;TZID=America/Denver:20231217T200000
DTSTAMP:20260422T111249
CREATED:20231213T201552Z
LAST-MODIFIED:20231213T201758Z
UID:10062153-1702836000-1702843200@spanishpeakscountry.com
SUMMARY:Noel! Noel! Noel! A Christmas Cantata
DESCRIPTION:The Sangre de Cristo Arts Ensemble\, Southern Colorado’s happiest community choir presents “Noel! Noel! Noel! A Christmas Cantata” at St. Mary’s Church in Walsenburg
URL:https://spanishpeakscountry.com/spc-event/noel-noel-noel-a-christmas-cantata/
LOCATION:St. Mary Catholic Church\, 121 E 7th St\, Walsenburg\, CO\, 81089\, United States
CATEGORIES:Music
ATTACH;FMTTYPE=image/png:https://spanishpeakscountry.com/wp-content/uploads/2023/12/guitar.png
GEO:37.6227756;-104.7793053
X-APPLE-STRUCTURED-LOCATION;VALUE=URI;X-ADDRESS=St. Mary Catholic Church 121 E 7th St Walsenburg CO 81089 United States;X-APPLE-RADIUS=500;X-TITLE=121 E 7th St:geo:-104.7793053,37.6227756
END:VEVENT
END:VCALENDAR